BEGIN:VCALENDAR
VERSION:2.0
CALSCALE:GREGORIAN
PRODID:UW-Madison-Physics-Events
BEGIN:VEVENT
SEQUENCE:0
UID:UW-Physics-Event-3544
DTSTART:20141208T180000Z
DTEND:20141208T190000Z
DTSTAMP:20260419T161608Z
LAST-MODIFIED:20141208T152845Z
LOCATION:2535 Engineering Hall
SUMMARY:Relativistic runaway electrons\, Plasma Physics (Physics/ECE/N
 E 922) Seminar\, Boris Breizman\, The University of Texas at Austin
DESCRIPTION:
URL:https://www.physics.wisc.edu/events/?id=3544
END:VEVENT
END:VCALENDAR
