BEGIN:VCALENDAR
VERSION:2.0
CALSCALE:GREGORIAN
PRODID:UW-Madison-Physics-Events
BEGIN:VEVENT
SEQUENCE:0
UID:UW-Physics-Event-3546
DTSTART:20141203T210000Z
DTEND:20141203T220000Z
DTSTAMP:20260419T161527Z
LAST-MODIFIED:20141201T045738Z
LOCATION:5280 Chamberlin Hall
SUMMARY:Neutrino oscillations at current and future experiments\, Theo
 ry Seminar (High Energy/Cosmology)\, Pilar Coloma
DESCRIPTION:The large value of $theta_{13}$ has opened a door to deter
 mine the ordering of neutrino masses and the amount of CP violation in
  the leptonic sector. In the case of the neutrino mass ordering\, the 
 situation for the upcoming years is particularly promising and a measu
 rement may be achievable in the near future. The determination of the 
 Dirac CP-violating phase $delta$ is more challenging and will depend o
 n several factors\, though. In this talk\, I will summarize the prospe
 cts for the current and future generations of neutrino oscillation exp
 eriments for these two observables\, and discuss the main challenges t
 hat they will have to face.
URL:https://www.physics.wisc.edu/events/?id=3546
END:VEVENT
END:VCALENDAR
