BEGIN:VCALENDAR
VERSION:2.0
CALSCALE:GREGORIAN
PRODID:UW-Madison-Physics-Events
BEGIN:VEVENT
SEQUENCE:0
UID:UW-Physics-Event-3549
DTSTART:20150108T160000Z
DURATION:PT1H0M0S
DTSTAMP:20260419T154150Z
LAST-MODIFIED:20150105T172202Z
LOCATION:5310 Chamberlin Hall 
SUMMARY:A Quantitative Study of Bias Triangles in Chemical Potential S
 pace\, R. G. Herb Condensed Matter Seminar\, Dr. Justin Perron
DESCRIPTION:Pauli-spin blockade (PSB) is a common method of spin-to-ch
 arge conversion used for readout of spin based qubits in double quantu
 m dot architectures. A prerequisite to studies of PSB is a strong unde
 rstanding of bias triangles in the absence of blockade. To this end I 
 will present measurements of bias triangles in various biasing configu
 rations. I use these measurements to validate a new analysis technique
  allowing the data to be presented in chemical potential space as oppo
 sed to the usual gate voltage space.  This analysis allows comparisons
  between different biasing directions to be made in a clean and straig
 htforward manner.  This ability will be useful for investigations into
  PSB where these comparisons are paramount. 
URL:https://www.physics.wisc.edu/events/?id=3549
END:VEVENT
END:VCALENDAR
