BEGIN:VCALENDAR
VERSION:2.0
CALSCALE:GREGORIAN
PRODID:UW-Madison-Physics-Events
BEGIN:VEVENT
SEQUENCE:0
UID:UW-Physics-Event-3561
DTSTART:20150318T171500Z
DURATION:PT1H0M0S
DTSTAMP:20260419T142627Z
LAST-MODIFIED:20150317T143526Z
LOCATION:5310 Chamberlin Hall
SUMMARY:Department Meeting
DESCRIPTION:
URL:https://www.physics.wisc.edu/events/?id=3561
END:VEVENT
END:VCALENDAR
