BEGIN:VCALENDAR
VERSION:2.0
CALSCALE:GREGORIAN
PRODID:UW-Madison-Physics-Events
BEGIN:VEVENT
SEQUENCE:0
UID:UW-Physics-Event-3568
DTSTART:20150316T210000Z
DURATION:PT1H0M0S
DTSTAMP:20260419T153944Z
LAST-MODIFIED:20150106T150940Z
LOCATION:2314 Chamberlin (Chair's Conference Room)
SUMMARY:Council Meeting
DESCRIPTION:
URL:https://www.physics.wisc.edu/events/?id=3568
END:VEVENT
END:VCALENDAR
