BEGIN:VCALENDAR
VERSION:2.0
CALSCALE:GREGORIAN
PRODID:UW-Madison-Physics-Events
BEGIN:VEVENT
SEQUENCE:0
UID:UW-Physics-Event-3595
DTSTART:20150121T220000Z
DTEND:20150121T230000Z
DTSTAMP:20260419T142931Z
LAST-MODIFIED:20150119T204430Z
LOCATION:4274 Chamberlin Hall
SUMMARY:The non-thermal Universe\, NPAC (Nuclear/Particle/Astro/Cosmo)
  Forum\, Markus Ahlers\, UW - Madison
DESCRIPTION:One of the most puzzling observations of modern astronomy 
 is the existence of very high-energetic messengers in the form of cosm
 ic rays\, gamma-rays and cosmic neutrinos. These phenomena are related
  to non-thermal processes in the Universe which in most cases are bare
 ly understood. The multi-messenger observations contain not only infor
 mation about particle production processes in the sources but also the
  cosmic evolution of source populations and various propagation effect
 s in extragalactic and Galactic environments. I will highlight how rec
 ent observations in cosmic ray\, gamma-ray and neutrino astronomy prov
 ide new clues or support existing models of the underlying physics of 
 high-energy phenomena in the Universe.
URL:https://www.physics.wisc.edu/events/?id=3595
END:VEVENT
END:VCALENDAR
