BEGIN:VCALENDAR
VERSION:2.0
CALSCALE:GREGORIAN
PRODID:UW-Madison-Physics-Events
BEGIN:VEVENT
SEQUENCE:0
UID:UW-Physics-Event-3599
DTSTART:20150127T180500Z
DTEND:20150127T190000Z
DTSTAMP:20260419T154153Z
LAST-MODIFIED:20150122T232054Z
LOCATION:4274 Chamberlin Hall (Refreshments will be served)
SUMMARY:Madison Science Museum: from chaos to complexity\, Chaos & Com
 plex Systems Seminar\, Olga Trubetskoy and Dave Nelson\, Madison Scien
 ce Museum
DESCRIPTION:We will start from ongoing story of starting up a science 
 museum in Madison describing how from initial turmoil\, obstacles and 
 defeats the museum is now emerging being shaped by inspiration\, visio
 ns and public involvement. We will resume the saga by revealing a few 
 curious stories from  Madison science history scene that will be a par
 t of a future museum exhibits.
URL:https://www.physics.wisc.edu/events/?id=3599
END:VEVENT
END:VCALENDAR
