BEGIN:VCALENDAR
VERSION:2.0
CALSCALE:GREGORIAN
PRODID:UW-Madison-Physics-Events
BEGIN:VEVENT
SEQUENCE:0
UID:UW-Physics-Event-3601
DTSTART:20150210T180500Z
DTEND:20150210T190000Z
DTSTAMP:20260419T153733Z
LAST-MODIFIED:20150122T232353Z
LOCATION:4274 Chamberlin Hall (Refreshments will be served)
SUMMARY:Energy and ecosystems: Howard Odum's seminal 1973 paper\, "Ene
 rgy\, ecology\, and economics\," 42 years later \, Chaos & Complex Sys
 tems Seminar\, Bill Fischer\, Agronomy\, Business\, Law\, and Psychiat
 ry
DESCRIPTION:
URL:https://www.physics.wisc.edu/events/?id=3601
END:VEVENT
END:VCALENDAR
