BEGIN:VCALENDAR
VERSION:2.0
CALSCALE:GREGORIAN
PRODID:UW-Madison-Physics-Events
BEGIN:VEVENT
SEQUENCE:0
UID:UW-Physics-Event-3608
DTSTART:20150407T170500Z
DTEND:20150407T180000Z
DTSTAMP:20260419T142748Z
LAST-MODIFIED:20150122T233354Z
LOCATION:4274 Chamberlin Hall (Refreshments will be served)
SUMMARY:Movement of eosinophils into lungs of patients with asthma\, C
 haos & Complex Systems Seminar\,  Deane Mosher\, UW Department of Biom
 olecular Chemistry
DESCRIPTION:Eosinophils are granular leukocytes (white cells) that are
  relatively scarce in blood but more common in tissues. Tissue eosinop
 hils contribute to tissue homeostasis in the gut and other organs and 
 are a prominent component of inflammation associated with malignancies
 \, viral and helminthic infections\, allergic diseases such as asthma\
 , and orderly tissue repair. Among leukocytes\, eosinophils are except
 ional in a number of ways—content of eosinophilic granules\; complem
 ent of receptors and other molecules that control activation and traff
 icking\; complement of mediator-generating enzymes\; and polarization 
 upon activation into a granular compartment and a nucleopod\, a specia
 lized protrusion occupied by the nucleus. I will describe a series of 
 related processes that target blood eosinophils to the bronchial tree 
 of asthmatic patients. 
URL:https://www.physics.wisc.edu/events/?id=3608
END:VEVENT
END:VCALENDAR
