BEGIN:VCALENDAR
VERSION:2.0
CALSCALE:GREGORIAN
PRODID:UW-Madison-Physics-Events
BEGIN:VEVENT
SEQUENCE:0
UID:UW-Physics-Event-3611
DTSTART:20150428T170500Z
DTEND:20150428T180000Z
DTSTAMP:20260419T154016Z
LAST-MODIFIED:20150122T233811Z
LOCATION:4274 Chamberlin Hall (Refreshments will be served)
SUMMARY:Barker frailty\, Barker echoes and warped older age mortality 
 dynamics\, Chaos & Complex Systems Seminar\, Alberto Palloni and Hiram
  Beltran Sanchez\, UW  Center for Demography and Health of Aging
DESCRIPTION:An association between early childhood and old age mortali
 ty in successive  birth cohorts (Barker frailty) generates conditions 
 under which old age mortality can increase\, decrease or remain consta
 nt even though background mortality is declining (Barker echoes). The 
 stronger the association is\, the larger will  be the deviations from 
 background mortality\, but\,  paradoxically\,  the less durable this d
 eviant behavior will be (warped dynamics). Under regimes of strong Bar
 ker frailty\, life expectancy at older ages my decrease even though su
 rvival conditions are improving. 
URL:https://www.physics.wisc.edu/events/?id=3611
END:VEVENT
END:VCALENDAR
