BEGIN:VCALENDAR
VERSION:2.0
CALSCALE:GREGORIAN
PRODID:UW-Madison-Physics-Events
BEGIN:VEVENT
SEQUENCE:0
UID:UW-Physics-Event-3616
DTSTART:20150128T220000Z
DTEND:20150128T230000Z
DTSTAMP:20260419T153856Z
LAST-MODIFIED:20150123T224528Z
LOCATION:4274 Chamberlin Hall
SUMMARY:Quantum control of atoms\, ions\, and nuclei \, R. G. Herb Con
 densed Matter Seminar\, Christian Schneider\, UCLA
DESCRIPTION:Cold atoms and ions provide an interesting playground for 
 a<br>\nvariety of measurements of fundamental physics.  Using RF trap
 s\, experiments<br>\nbecome possible with both large ensembles of ion
 s\, e.g. in cold chemistry\, and<br>\nfew/single ions\, such as in qu
 antum computations/simulations or optical clocks\,<br>\nwhere ultimat
 e quantum control is required.  In the first part of the talk\,<br>\n
 recent results from our work on cold chemistry and cold molecular ions
  using a<br>\nhybrid atom--ion experiment will be presented.  We have
  developed an integrated<br>\ntime-of-flight mass spectrometer\, whic
 h allows for the analysis of the complete<br>\nion ensemble with isot
 opic resolution.  Using this new setup\, we have<br>\nsignificantly e
 nhanced previous studies of cold reactions in our<br>\nsystem.  Poten
 tial routes towards ultra-cold reactions at the quantum level<br>\nwi
 ll be presented.  Current work aims at demonstrating rotational coolin
 g of<br>\nmolecular ions and photo-associating molecular ions.<br>\n
 <br>\nThe second part of the talk reports on our results of the searc
 h for the<br>\nlow-energy isomeric transition in thorium-229.  This t
 ransition in the<br>\nvacuum-ultraviolet regime (around 7.8 eV) has a
  lifetime of tens of<br>\nminutes to several hours and is better isol
 ated from the environment<br>\nthan electronic transitions.  This mak
 es it a very promising<br>\ncandidate for future precision experiment
 s\, such as a nuclear clock or tests of<br>\nvariation of fundamental
  constants\, which could outperform implementations<br>\nbased on ele
 ctronic transitions.  Our approach of a direct search for the<br>\nnu
 clear transition uses thorium-doped crystals and\, in a first experime
 nt\,<br>\nsynchrotron radiation (ALS\, LBNL) to drive this transition
 .  We were able to<br>\nexclude a large region of possible transition
  frequencies and lifetimes.<br>\nCurrently\, we continue our efforts 
 with enhanced sensitivity using a pulsed VUV<br>\nlaser system.<br>\
 n
URL:https://www.physics.wisc.edu/events/?id=3616
END:VEVENT
END:VCALENDAR
