BEGIN:VCALENDAR
VERSION:2.0
CALSCALE:GREGORIAN
PRODID:UW-Madison-Physics-Events
BEGIN:VEVENT
SEQUENCE:0
UID:UW-Physics-Event-3619
DTSTART:20150126T180000Z
DTEND:20150126T190000Z
DTSTAMP:20260419T154018Z
LAST-MODIFIED:20150126T142742Z
LOCATION:1610 Engineering Hall
SUMMARY:Current redistribution and transport in the RFP\, Plasma Physi
 cs (Physics/ECE/NE 922) Seminar\, Dr. Eli Parke\, UW- Madison
DESCRIPTION:
URL:https://www.physics.wisc.edu/events/?id=3619
END:VEVENT
END:VCALENDAR
