BEGIN:VCALENDAR
VERSION:2.0
CALSCALE:GREGORIAN
PRODID:UW-Madison-Physics-Events
BEGIN:VEVENT
SEQUENCE:0
UID:UW-Physics-Event-3625
DTSTART:20150209T180000Z
DTEND:20150209T190000Z
DTSTAMP:20260419T142732Z
LAST-MODIFIED:20150130T175959Z
LOCATION:1610 Engineering Hall
SUMMARY:The tokamak density limit: a thermo-resistive disruption mecha
 nism\, Plasma Physics (Physics/ECE/NE 922) Seminar\, Dr. David Gates\,
  Princeton Plasma Physics Laboratory
DESCRIPTION:
URL:https://www.physics.wisc.edu/events/?id=3625
END:VEVENT
END:VCALENDAR
