BEGIN:VCALENDAR
VERSION:2.0
CALSCALE:GREGORIAN
PRODID:UW-Madison-Physics-Events
BEGIN:VEVENT
SEQUENCE:0
UID:UW-Physics-Event-3661
DTSTART:20150311T160000Z
DTEND:20150311T170000Z
DTSTAMP:20260419T153735Z
LAST-MODIFIED:20150220T175410Z
LOCATION:5310 Chamberlin Hall
SUMMARY:Physics Education Innovation\, Physics Education Innovation Fo
 rum\, Duncan Carlsmith\, UW - Madison\, Department of Physics
DESCRIPTION:Cheap lecture capture - Professor Duncan Carlsmith - (UW-M
 adison)<br>\n<br>\nAbstract: The Revolabs Xtag wireless lapel microp
 hone permits recording audio over your powerpoint or keynote slideshow
  while you freely wander the lecture room. I will discuss lecture capt
 ure technologies\, demonstrate the use of this simple technique\, and 
 show you how to 1-click publish your captured lecture to the cloud.<br
 >\n<br>\nEnhancing Quantum Mechanics Using Mathematica - Professor T
 had Walker (UW-Madison)<br>\n<br>\nAbstract: I will describe how I h
 ave been using Mathematica as a tool for both analytical and numerical
  work in the 448/9 sequence. There are several ways it enhances the le
 arning experience.  It greatly extends the variety of problems that ca
 n be reasonably solved.  It does tedious algebra simply and correctly.
   It forces students to concretely implement abstractions such as chan
 ges of basis\, outer product spaces\, and matrix representations.  It 
 allows me to give take home exams without concern that the students wi
 ll find the answer on the internet.  Plus\, it forces many otherwise c
 omputer illiterate students to develop computational skills that they 
 will find useful for whatever scientific or technical career they may 
 eventually end up in.  Finally\, since it is relatively easy to use I 
 do not have to spend class time teaching how to use it.  They build up
  their skills through a sequence of worked examples from lecture.  In 
 449\, I assign a major computational project\, done in self-assembled 
 groups\,  to calculate some of the energy levels of the helium atom fr
 om first principles to better than 1% accuracy.  This project requires
  numerical work\, implementation of angular momentum algebra (dependin
 g on which states I pick) and perturbation theory and impresses upon t
 he students that quantum mechanics really works.
URL:https://www.physics.wisc.edu/events/?id=3661
END:VEVENT
END:VCALENDAR
