BEGIN:VCALENDAR
VERSION:2.0
CALSCALE:GREGORIAN
PRODID:UW-Madison-Physics-Events
BEGIN:VEVENT
SEQUENCE:0
UID:UW-Physics-Event-3677
DTSTART:20150309T210000Z
DURATION:PT1H0M0S
DTSTAMP:20260419T142343Z
LAST-MODIFIED:20150302T194157Z
LOCATION:5310 Chamberlin Hall
SUMMARY:Department Meeting
DESCRIPTION:
URL:https://www.physics.wisc.edu/events/?id=3677
END:VEVENT
END:VCALENDAR
