BEGIN:VCALENDAR
VERSION:2.0
CALSCALE:GREGORIAN
PRODID:UW-Madison-Physics-Events
BEGIN:VEVENT
SEQUENCE:0
UID:UW-Physics-Event-3681
DTSTART:20150514T193000Z
DTEND:20150514T203000Z
DTSTAMP:20260419T124425Z
LAST-MODIFIED:20150514T192755Z
LOCATION:5310 Chamberlin Hall
SUMMARY:Anomalous reactor antineutrino flux and spectrum measurements\
 , NPAC (Nuclear/Particle/Astro/Cosmo) Forum\, Bryce Littlejohn\, Illin
 ois Institute of Technology
DESCRIPTION:
URL:https://www.physics.wisc.edu/events/?id=3681
END:VEVENT
END:VCALENDAR
