BEGIN:VCALENDAR
VERSION:2.0
CALSCALE:GREGORIAN
PRODID:UW-Madison-Physics-Events
BEGIN:VEVENT
SEQUENCE:0
UID:UW-Physics-Event-3686
DTSTART:20150316T170000Z
DTEND:20150316T180000Z
DTSTAMP:20260419T153832Z
LAST-MODIFIED:20150316T153938Z
LOCATION:1610 Engineering Hall
SUMMARY:Turbulence and Transport Response to 3D Resonant Magnetic Pert
 urbations in ELM-Suppressed H-mode plasmas on DIII-D\, Plasma Physics 
 (Physics/ECE/NE 922) Seminar\, Dr. George McKee\, General Atomics
DESCRIPTION:
URL:https://www.physics.wisc.edu/events/?id=3686
END:VEVENT
END:VCALENDAR
