BEGIN:VCALENDAR
VERSION:2.0
CALSCALE:GREGORIAN
PRODID:UW-Madison-Physics-Events
BEGIN:VEVENT
SEQUENCE:0
UID:UW-Physics-Event-3687
DTSTART:20150323T170000Z
DTEND:20150323T180000Z
DTSTAMP:20260419T142540Z
LAST-MODIFIED:20150312T172602Z
LOCATION:1610 Engineering Hall
SUMMARY:Approach to transient plasma phenomena using Thomson scatterin
 g measurements in LHD\, Plasma Physics (Physics/ECE/NE 922) Seminar\, 
 Dr Ryo Yasuhara\, National Institute for Fusion Science
DESCRIPTION:
URL:https://www.physics.wisc.edu/events/?id=3687
END:VEVENT
END:VCALENDAR
