BEGIN:VCALENDAR
VERSION:2.0
CALSCALE:GREGORIAN
PRODID:UW-Madison-Physics-Events
BEGIN:VEVENT
SEQUENCE:0
UID:UW-Physics-Event-3688
DTSTART:20150406T170000Z
DTEND:20150406T180000Z
DTSTAMP:20260419T142637Z
LAST-MODIFIED:20150325T175914Z
LOCATION:1610 Engineering Hall
SUMMARY:Optical Emission Spectroscopy as a Diagnostic of Low-Temperatu
 re Plasmas\, Plasma Physics (Physics/ECE/NE 922) Seminar\, Dr. John Bo
 ffard\, UW-Madison\, Physics
DESCRIPTION:
URL:https://www.physics.wisc.edu/events/?id=3688
END:VEVENT
END:VCALENDAR
