BEGIN:VCALENDAR
VERSION:2.0
CALSCALE:GREGORIAN
PRODID:UW-Madison-Physics-Events
BEGIN:VEVENT
SEQUENCE:0
UID:UW-Physics-Event-3698
DTSTART:20150408T160000Z
DTEND:20150409T045000Z
DTSTAMP:20260419T142629Z
LAST-MODIFIED:20150406T190812Z
LOCATION:5310 Chamberlin Hall
SUMMARY:Active Learning in Large Enrollment Classes:  Literature Revie
 w\, Physics Education Innovation Forum\, Peter Timbie\, UW Madison - P
 hysics
DESCRIPTION:The Department has been asked to participate in UW's REACH
  (REdesign for ACtive learning in High-enrollment courses) program.<br
 >\nI will review a few classic papers about active learning\, includi
 ng:<br>\n<br>\n"Improved Learning in a Large-Enrollment Physics Clas
 s"<br>\nScience 332\, 862 (2011)<br>\nLouis Deslauriers\, Ellen Sche
 lew\, and Carl Wieman\, and<br>\n<br>\n"Large-scale comparison of sc
 ience teaching methods sends clear message"<br>\nPNAS 111(23)8319 (20
 14)<br>\nCarl Wieman<br>\n<br>\n<br>\n
URL:https://www.physics.wisc.edu/events/?id=3698
END:VEVENT
END:VCALENDAR
