BEGIN:VCALENDAR
VERSION:2.0
CALSCALE:GREGORIAN
PRODID:UW-Madison-Physics-Events
BEGIN:VEVENT
SEQUENCE:0
UID:UW-Physics-Event-3719
DTSTART:20150518T203000Z
DURATION:PT1H0M0S
DTSTAMP:20260419T124505Z
LAST-MODIFIED:20150505T211832Z
LOCATION:Fermilab\, Ramsey Auditorium
SUMMARY:A Complete Demonstrator of a Cooled-Muon Higgs Factory\, Fermi
 lab Talk\, Carlo Rubbia\, GSSI-INFN
DESCRIPTION:
URL:https://www.physics.wisc.edu/events/?id=3719
END:VEVENT
END:VCALENDAR
