BEGIN:VCALENDAR
VERSION:2.0
CALSCALE:GREGORIAN
PRODID:UW-Madison-Physics-Events
BEGIN:VEVENT
SEQUENCE:0
UID:UW-Physics-Event-3721
DTSTART:20150512T210000Z
DTEND:20150512T220000Z
DTSTAMP:20260419T124344Z
LAST-MODIFIED:20150511T044521Z
LOCATION:5280 Chamberlin Hall
SUMMARY:Naturalness in Supergravity Models: The Higgs Mass and Higgsin
 o Mass\, Theory Seminar (High Energy/Cosmology)\, Sujeet Akula\, Monas
 h University
DESCRIPTION:The minimal supergravity model is deeply affected by the H
 iggs boson mass measurement\, but is not conclusively unnatural. We di
 scuss the implications for the LHC and for direct detection of dark ma
 tter which are striking\, along with the effect on other physics at th
 e weak scale. Finally\, we discuss a new type of model in supergravity
  grand unification\, guided by the currently available data.
URL:https://www.physics.wisc.edu/events/?id=3721
END:VEVENT
END:VCALENDAR
