BEGIN:VCALENDAR
VERSION:2.0
CALSCALE:GREGORIAN
PRODID:UW-Madison-Physics-Events
BEGIN:VEVENT
SEQUENCE:0
UID:UW-Physics-Event-3722
DTSTART:20150511T210000Z
DTEND:20150511T220000Z
DTSTAMP:20260419T124515Z
LAST-MODIFIED:20150511T163157Z
LOCATION:514 ERB
SUMMARY:Resonant 3-D Magnetic Field Effects -- penetration\, resistive
  reconnection\, islands\, transport\, Plasma Theory Seminar\, Prof. Ja
 mes D. Callen\, UW-Madison\, Engineering Physics\, UW-Madison\, Engine
 ering Physics
DESCRIPTION:
URL:https://www.physics.wisc.edu/events/?id=3722
END:VEVENT
END:VCALENDAR
