BEGIN:VCALENDAR
VERSION:2.0
CALSCALE:GREGORIAN
PRODID:UW-Madison-Physics-Events
BEGIN:VEVENT
SEQUENCE:0
UID:UW-Physics-Event-3725
DTSTART:20150521T150000Z
DTEND:20150521T160000Z
DTSTAMP:20260419T124504Z
LAST-MODIFIED:20150519T190637Z
LOCATION:Chamberlin 5310
SUMMARY:Surprises in topological insulators -- singular paramagnetism 
 and superconductivity\, R. G. Herb Condensed Matter Seminar\, Vadim Og
 anesyan\, CUNY
DESCRIPTION:
URL:https://www.physics.wisc.edu/events/?id=3725
END:VEVENT
END:VCALENDAR
