BEGIN:VCALENDAR
VERSION:2.0
CALSCALE:GREGORIAN
PRODID:UW-Madison-Physics-Events
BEGIN:VEVENT
SEQUENCE:0
UID:UW-Physics-Event-3868
DTSTART:20160204T160000Z
DTEND:20160204T170000Z
DTSTAMP:20260419T175504Z
LAST-MODIFIED:20161104T130750Z
LOCATION:Chamberlin 5310
SUMMARY:TBD\, R. G. Herb Condensed Matter Seminar\, Ivar Martin\, Argo
 nne National Laboratory
DESCRIPTION:TBD
URL:https://www.physics.wisc.edu/events/?id=3868
END:VEVENT
END:VCALENDAR
