BEGIN:VCALENDAR
VERSION:2.0
CALSCALE:GREGORIAN
PRODID:UW-Madison-Physics-Events
BEGIN:VEVENT
SEQUENCE:0
UID:UW-Physics-Event-3887
DTSTART:20160104T180500Z
DTEND:20160104T190000Z
DTSTAMP:20260419T174141Z
LAST-MODIFIED:20151218T161956Z
LOCATION:5280 Chamberlin Hall
SUMMARY:Electron Thermal Confinement during Helicity Injection\, and T
 urbulence Characteristics during LH Transitions in DIII-D\, Special Pl
 asma Seminar\, Dave Schlossberg\, Engineering Physics\, University of 
 Wisconsin-Madison
DESCRIPTION:
URL:https://www.physics.wisc.edu/events/?id=3887
END:VEVENT
END:VCALENDAR
