BEGIN:VCALENDAR
VERSION:2.0
CALSCALE:GREGORIAN
PRODID:UW-Madison-Physics-Events
BEGIN:VEVENT
SEQUENCE:0
UID:UW-Physics-Event-3888
DTSTART:20160105T180500Z
DTEND:20160105T190000Z
DTSTAMP:20260419T174140Z
LAST-MODIFIED:20151218T161942Z
LOCATION:5280 Chamberlin Hall
SUMMARY:Low edge safety factor disruptions in CTH: Operation in low-q 
 regime\, passive disruption avoidance and nature of MHD precursors\, S
 pecial Plasma Seminar\, Mihir D. Pandya\, Department of Physics\, Aubu
 rn University
DESCRIPTION:
URL:https://www.physics.wisc.edu/events/?id=3888
END:VEVENT
END:VCALENDAR
