BEGIN:VCALENDAR
VERSION:2.0
CALSCALE:GREGORIAN
PRODID:UW-Madison-Physics-Events
BEGIN:VEVENT
SEQUENCE:0
UID:UW-Physics-Event-3889
DTSTART:20160111T180500Z
DTEND:20160111T190000Z
DTSTAMP:20260419T174142Z
LAST-MODIFIED:20151218T162658Z
LOCATION:5280 Chamberlin Hall
SUMMARY:Dynamics of Turbulence and Flows Under Electrode Biasing in a 
 Linear Device\, Special Plasma Seminar\, Tiffany Desjardins\, Universi
 ty of New Mexico\, Albuquerque
DESCRIPTION:
URL:https://www.physics.wisc.edu/events/?id=3889
END:VEVENT
END:VCALENDAR
