BEGIN:VCALENDAR
VERSION:2.0
CALSCALE:GREGORIAN
PRODID:UW-Madison-Physics-Events
BEGIN:VEVENT
SEQUENCE:0
UID:UW-Physics-Event-3890
DTSTART:20160112T180500Z
DTEND:20160112T190000Z
DTSTAMP:20260419T174120Z
LAST-MODIFIED:20151218T162812Z
LOCATION:5280 Chamberlin Hall
SUMMARY:Modeling of plasma rotation control for NSTX and NSTX-U\, Spec
 ial Plasma Seminar\, Imène Goumiri\, Mechanical and Aerospace Enginee
 ring\, Princeton University
DESCRIPTION:
URL:https://www.physics.wisc.edu/events/?id=3890
END:VEVENT
END:VCALENDAR
