BEGIN:VCALENDAR
VERSION:2.0
CALSCALE:GREGORIAN
PRODID:UW-Madison-Physics-Events
BEGIN:VEVENT
SEQUENCE:0
UID:UW-Physics-Event-3894
DTSTART:20160203T181500Z
DURATION:PT1H0M0S
DTSTAMP:20260419T175611Z
LAST-MODIFIED:20151221T140910Z
LOCATION:5310 Chamberlin Hall
SUMMARY:Department Meeting
DESCRIPTION:
URL:https://www.physics.wisc.edu/events/?id=3894
END:VEVENT
END:VCALENDAR
