BEGIN:VCALENDAR
VERSION:2.0
CALSCALE:GREGORIAN
PRODID:UW-Madison-Physics-Events
BEGIN:VEVENT
SEQUENCE:0
UID:UW-Physics-Event-3896
DTSTART:20160302T181500Z
DURATION:PT1H0M0S
DTSTAMP:20260419T155900Z
LAST-MODIFIED:20160301T212637Z
LOCATION:5310 Chamberlin Hall
SUMMARY:CANCELLED - Rescheduled for next week: 03/09/16\, Department M
 eeting
DESCRIPTION:
URL:https://www.physics.wisc.edu/events/?id=3896
END:VEVENT
END:VCALENDAR
