BEGIN:VCALENDAR
VERSION:2.0
CALSCALE:GREGORIAN
PRODID:UW-Madison-Physics-Events
BEGIN:VEVENT
SEQUENCE:0
UID:UW-Physics-Event-3902
DTSTART:20160120T181500Z
DURATION:PT1H0M0S
DTSTAMP:20260419T174123Z
LAST-MODIFIED:20160120T134300Z
LOCATION:5310 Chamberlin Hall
SUMMARY:Department Meeting
DESCRIPTION:
URL:https://www.physics.wisc.edu/events/?id=3902
END:VEVENT
END:VCALENDAR
