BEGIN:VCALENDAR
VERSION:2.0
CALSCALE:GREGORIAN
PRODID:UW-Madison-Physics-Events
BEGIN:VEVENT
SEQUENCE:0
UID:UW-Physics-Event-3915
DTSTART:20160224T180000Z
DTEND:20160224T190000Z
DTSTAMP:20260419T181125Z
LAST-MODIFIED:20160224T144704Z
LOCATION:5280 Chamberlin Hall
SUMMARY:with Chancellor Blank\, Department Meeting
DESCRIPTION:
URL:https://www.physics.wisc.edu/events/?id=3915
END:VEVENT
END:VCALENDAR
