BEGIN:VCALENDAR
VERSION:2.0
CALSCALE:GREGORIAN
PRODID:UW-Madison-Physics-Events
BEGIN:VEVENT
SEQUENCE:0
UID:UW-Physics-Event-3918
DTSTART:20160126T180500Z
DTEND:20160126T190000Z
DTSTAMP:20260419T175643Z
LAST-MODIFIED:20160119T140036Z
LOCATION:4274 Chamberlin Hall (Refreshments will be served)
SUMMARY:urbulence\, the manifestation of eddies and their role in cons
 ervation laws\, Chaos & Complex Systems Seminar\,  George Hrabovsky\, 
 Madison Area Science and Technology
DESCRIPTION:Only in technically dry fluids can you get away from the p
 henomena of turbulence. Such phenomena serve to transport important qu
 antities across scales. Why is this important? Because two thirds of t
 he classical states of matter are composed of fluids. Fluids exist on 
 most scales of distance measurement—some surprising. Where there are
  non-perfect fluids\, there is turbulence. Why is the transport of the
 se quantities across scales important? What are the ramifications for 
 physical and predictive modeling? Come to the talk and find out...<br>
 <br>\n
URL:https://www.physics.wisc.edu/events/?id=3918
END:VEVENT
END:VCALENDAR
