BEGIN:VCALENDAR
VERSION:2.0
CALSCALE:GREGORIAN
PRODID:UW-Madison-Physics-Events
BEGIN:VEVENT
SEQUENCE:0
UID:UW-Physics-Event-4054
DTSTART:20160213T190000Z
DURATION:PT1H0M0S
DTSTAMP:20260420T020643Z
LAST-MODIFIED:20160126T170603Z
LOCATION:2103 Chamberlin
SUMMARY:Physics of Superheros\, Wonders of Physics\, Sprott and others
DESCRIPTION:
URL:https://www.physics.wisc.edu/events/?id=4054
END:VEVENT
END:VCALENDAR
