BEGIN:VCALENDAR
VERSION:2.0
CALSCALE:GREGORIAN
PRODID:UW-Madison-Physics-Events
BEGIN:VEVENT
SEQUENCE:0
UID:UW-Physics-Event-4072
DTSTART:20160221T010000Z
DURATION:PT1H0M0S
DTSTAMP:20260420T020618Z
LAST-MODIFIED:20160208T133923Z
LOCATION:2103 Chamberlin Hall
SUMMARY:The Physics of Superheros\, Wonders of Physics\, Clint Sprott\
 , University of Wisconsin - Madison
DESCRIPTION:
URL:https://www.physics.wisc.edu/events/?id=4072
END:VEVENT
END:VCALENDAR
