BEGIN:VCALENDAR
VERSION:2.0
CALSCALE:GREGORIAN
PRODID:UW-Madison-Physics-Events
BEGIN:VEVENT
SEQUENCE:0
UID:UW-Physics-Event-4085
DTSTART:20160307T180000Z
DTEND:20160307T190000Z
DTSTAMP:20260419T145135Z
LAST-MODIFIED:20160225T175209Z
LOCATION:1153 Mechanical Engineering
SUMMARY:"Nonlinear Convective Transport in Magnetized Temperature Fila
 ments: Theory\, Simulation and Experiments\, Plasma Physics (Physics/E
 CE/NE 922) Seminar\, Dr. Richard Sydora\, University of Alberta\, Univ
 ersity of Alberta
DESCRIPTION:
URL:https://www.physics.wisc.edu/events/?id=4085
END:VEVENT
END:VCALENDAR
