BEGIN:VCALENDAR
VERSION:2.0
CALSCALE:GREGORIAN
PRODID:UW-Madison-Physics-Events
BEGIN:VEVENT
SEQUENCE:0
UID:UW-Physics-Event-4087
DTSTART:20160224T200000Z
DTEND:20160224T210000Z
DTSTAMP:20260419T181037Z
LAST-MODIFIED:20160222T144931Z
LOCATION:5310 Chamberlin Hall
SUMMARY:Scintillating v's\, NPAC (Nuclear/Particle/Astro/Cosmo) Forum\
 , Adam Schreckenberger\, Univ. of Texas-Austin
DESCRIPTION:<br><br>\nMINOS (Main Injector Neutrino Oscillation Searc
 h) is a long-baseline neutrino experiment that utilizes the Fermilab-b
 ased NuMI beam and two steel-scintillator tracking calorimeters to det
 ect neutrino oscillation. Multivariate techniques allow the MINOS and 
 MINOS+ col- laborations to exploit the νμ → νe dataset to produce
  limits on θ13\, the CP-violating phase (δCP )\, Non-Standard Intera
 ctions (NSI)\, and sterile neutrino oscillation parameters. Results en
 compassing standard three-flavor νe appearance and NSI are presented 
 along with recent analysis developments regarding a sterile neutrino s
 earch in MINOS+.
URL:https://www.physics.wisc.edu/events/?id=4087
END:VEVENT
END:VCALENDAR
