BEGIN:VCALENDAR
VERSION:2.0
CALSCALE:GREGORIAN
PRODID:UW-Madison-Physics-Events
BEGIN:VEVENT
SEQUENCE:0
UID:UW-Physics-Event-4105
DTSTART:20160303T223000Z
DTEND:20160303T233000Z
DTSTAMP:20260419T144848Z
LAST-MODIFIED:20160222T183340Z
LOCATION:5280 Chamberlin Hall
SUMMARY:Careers at Epic\, Careers for Physicists\, Sean Cotter (MS 200
 8)\, Epic
DESCRIPTION:Transition from college to career\, how he is using his ph
 ysics major at Epic
URL:https://www.physics.wisc.edu/events/?id=4105
END:VEVENT
END:VCALENDAR
