BEGIN:VCALENDAR
VERSION:2.0
CALSCALE:GREGORIAN
PRODID:UW-Madison-Physics-Events
BEGIN:VEVENT
SEQUENCE:0
UID:UW-Physics-Event-4122
DTSTART:20160309T181500Z
DTEND:20160309T191500Z
DTSTAMP:20260419T144929Z
LAST-MODIFIED:20160301T212206Z
LOCATION:5310 Chamberlin Hall
SUMMARY:Department Meeting
DESCRIPTION:
URL:https://www.physics.wisc.edu/events/?id=4122
END:VEVENT
END:VCALENDAR
