BEGIN:VCALENDAR
VERSION:2.0
CALSCALE:GREGORIAN
PRODID:UW-Madison-Physics-Events
BEGIN:VEVENT
SEQUENCE:0
UID:UW-Physics-Event-9663
DTSTART:20260424T180000Z
DTEND:20260424T190000Z
DTSTAMP:20260421T051911Z
LAST-MODIFIED:20260420T194716Z
LOCATION:Chamberlin 2135
SUMMARY:BBiP Arab-American + APIDA Heritage Month Event\, Black and Br
 own in Physics
DESCRIPTION:The Black and Brown in Physics (BBiP) student organization
  would like to invite you to our next Heritage Month Event (in honor o
 f April being Arab American Heritage month\, and May being Asian Pacif
 ic Islander Desi American Heritage / APIDA month) on Friday April 24th
  at 1 PM in Chamberlin 2135. This time we have the privilege of inviti
 ng Faizah Siddique (BBiP’s very own secretary!) to give a 20-minute 
 talk about Bangladeshi history\, culture\, and heritage followed by so
 me time for Q&As. In addition to the talk\, we will also have a short 
 presentation highlighting the contributions that Arab physicists have 
 made to the scientific community. We will also spend some time toward 
 the end to talk about our upcoming executive member elections and give
  folks some time to apply/self-nominate themselves for a BBiP executiv
 e position for the next 2026-27 academic year (if you are interested i
 n doing so)\, and maybe also play a fun singing game!<br>\n<br>\nWe wi
 ll be broadcasting the talk over Zoom (see below for link) for those u
 nable to make it to the event in-person.<br>\nZoom Link: https://uwmad
 ison.zoom.us/j/97556235944<br>\n<br>\nWe will be catering lunch from K
 anto Fiesta (Filipino food)\, and Taza (Mediterranean food). We kindly
  ask that if you are planning on attending the lunch in-person that yo
 u stay for the talks as well. Our speakers put a lot of thought and ti
 me into making their presentations\, and it’s important that we hono
 r that by attending both parts of the event.
URL:https://www.physics.wisc.edu/events/?id=9663
END:VEVENT
END:VCALENDAR
