BEGIN:VCALENDAR
VERSION:2.0
CALSCALE:GREGORIAN
PRODID:UW-Madison-Physics-Events
BEGIN:VEVENT
SEQUENCE:0
UID:UW-Physics-Event-9667
DTSTART:20260617T130000Z
DTEND:20260617T230000Z
DTSTAMP:20260425T122058Z
LAST-MODIFIED:20260424T144306Z
LOCATION:
SUMMARY:Radiation Impact on Superconducting Qubits (RISQ)\, Multiple
DESCRIPTION:This is the second iteration of a new workshop series on t
 he subject of Radiation Impact on Superconducting Qubits (RISQ) that w
 ill bring together the broader QIS and particle physics communities to
  assess the effects of radiation and cosmic rays on solid-state qubits
 \, and development of the tools needed to address the challenge. The w
 orkshop will take place in Madison\, WI on June 16-18\, 2026\, and wil
 l feature two and a half days of invited talks and detailed discussion
 s\, as well as a satellite workshop on GEANT4/G4CMP and develop the to
 ols needed for the modeling of energy dissipation in solid-state qubit
  systems on June 15\, 2026. The workshop will include representation a
 cross industry\, academia\, and national labs and encourages participa
 tion from scientific communities outside of quantum computing that hav
 e expertise or lessons learned from overlapping technical challenges a
 nd experience.<br>\nhttps://uwmadison.eventsair.com/risq2/
URL:https://www.physics.wisc.edu/events/?id=9667
END:VEVENT
END:VCALENDAR
